Package: gemma.R Version: 3.3.0 Command: /home/biocbuild/bbs-3.21-bioc/R/bin/R CMD INSTALL gemma.R StartedAt: 2025-02-20 15:26:58 -0500 (Thu, 20 Feb 2025) EndedAt: 2025-02-20 15:27:03 -0500 (Thu, 20 Feb 2025) EllapsedTime: 4.4 seconds RetCode: 0 Status: OK