Package: gemma.R Version: 3.3.0 Command: /home/biocbuild/bbs-3.21-bioc/R/bin/R CMD build --keep-empty-dirs --no-resave-data gemma.R StartedAt: 2025-02-20 17:31:52 -0500 (Thu, 20 Feb 2025) EndedAt: 2025-02-20 17:36:02 -0500 (Thu, 20 Feb 2025) EllapsedTime: 250.3 seconds RetCode: 0 Status: OK PackageFile: gemma.R_3.3.0.tar.gz PackageFileSize: 2.263 MiB