Package: gemma.R Version: 3.3.0 Command: /Library/Frameworks/R.framework/Resources/bin/R CMD check --install=check:gemma.R.install-out.txt --library=/Library/Frameworks/R.framework/Resources/library --no-vignettes --timings gemma.R_3.3.0.tar.gz StartedAt: 2025-02-20 19:23:21 -0500 (Thu, 20 Feb 2025) EndedAt: 2025-02-20 19:29:51 -0500 (Thu, 20 Feb 2025) EllapsedTime: 389.6 seconds RetCode: 0 Status: OK CheckDir: gemma.R.Rcheck Warnings: 0