Package: gemini Version: 1.21.0 Command: E:\biocbuild\bbs-3.21-bioc\R\bin\R.exe CMD check --no-multiarch --install=check:gemini.install-out.txt --library=E:\biocbuild\bbs-3.21-bioc\R\library --no-vignettes --timings gemini_1.21.0.tar.gz StartedAt: 2025-02-20 01:23:18 -0500 (Thu, 20 Feb 2025) EndedAt: 2025-02-20 01:26:10 -0500 (Thu, 20 Feb 2025) EllapsedTime: 172.0 seconds RetCode: 0 Status: OK CheckDir: gemini.Rcheck Warnings: 0