Package: gemini Version: 1.21.0 Command: rm -rf gemini.buildbin-libdir && mkdir gemini.buildbin-libdir && E:\biocbuild\bbs-3.21-bioc\R\bin\R.exe CMD INSTALL --build --library=gemini.buildbin-libdir gemini_1.21.0.tar.gz StartedAt: 2025-02-20 07:50:15 -0500 (Thu, 20 Feb 2025) EndedAt: 2025-02-20 07:50:38 -0500 (Thu, 20 Feb 2025) EllapsedTime: 23.1 seconds RetCode: 0 Status: OK PackageFile: gemini_1.21.0.zip PackageFileSize: 4.137 MiB