Package: gemini Version: 1.21.0 Command: /home/biocbuild/bbs-3.21-bioc/R/bin/R CMD build --keep-empty-dirs --no-resave-data gemini StartedAt: 2025-02-20 17:31:52 -0500 (Thu, 20 Feb 2025) EndedAt: 2025-02-20 17:32:17 -0500 (Thu, 20 Feb 2025) EllapsedTime: 25.0 seconds RetCode: 0 Status: OK PackageFile: gemini_1.21.0.tar.gz PackageFileSize: 4.081 MiB