Package: gemini Version: 1.21.0 Command: /Library/Frameworks/R.framework/Resources/bin/R CMD build --keep-empty-dirs --no-resave-data gemini StartedAt: 2025-02-19 16:24:49 -0500 (Wed, 19 Feb 2025) EndedAt: 2025-02-19 16:24:59 -0500 (Wed, 19 Feb 2025) EllapsedTime: 10.1 seconds RetCode: 0 Status: OK PackageFile: gemini_1.21.0.tar.gz PackageFileSize: 4.112 MiB