Package: geNetClassifier Version: 1.47.0 Command: rm -rf geNetClassifier.buildbin-libdir && mkdir geNetClassifier.buildbin-libdir && E:\biocbuild\bbs-3.21-bioc\R\bin\R.exe CMD INSTALL --build --library=geNetClassifier.buildbin-libdir geNetClassifier_1.47.0.tar.gz StartedAt: 2025-02-20 07:51:24 -0500 (Thu, 20 Feb 2025) EndedAt: 2025-02-20 07:52:26 -0500 (Thu, 20 Feb 2025) EllapsedTime: 62.3 seconds RetCode: 0 Status: OK PackageFile: geNetClassifier_1.47.0.zip PackageFileSize: 2.985 MiB