Package: geNetClassifier Version: 1.47.0 Command: /home/biocbuild/bbs-3.21-bioc/R/bin/R CMD build --keep-empty-dirs --no-resave-data geNetClassifier StartedAt: 2025-02-20 17:33:21 -0500 (Thu, 20 Feb 2025) EndedAt: 2025-02-20 17:33:37 -0500 (Thu, 20 Feb 2025) EllapsedTime: 16.1 seconds RetCode: 0 Status: OK PackageFile: geNetClassifier_1.47.0.tar.gz PackageFileSize: 3.939 MiB