Package: geNetClassifier Version: 1.48.0 Command: /Library/Frameworks/R.framework/Resources/bin/R CMD INSTALL geNetClassifier StartedAt: 2025-10-09 15:24:46 -0400 (Thu, 09 Oct 2025) EndedAt: 2025-10-09 15:25:03 -0400 (Thu, 09 Oct 2025) EllapsedTime: 17.4 seconds RetCode: 0 Status: OK