Package: geNetClassifier Version: 1.48.0 Command: /Library/Frameworks/R.framework/Resources/bin/R CMD build --keep-empty-dirs --no-resave-data geNetClassifier StartedAt: 2025-10-09 19:14:40 -0400 (Thu, 09 Oct 2025) EndedAt: 2025-10-09 19:15:20 -0400 (Thu, 09 Oct 2025) EllapsedTime: 40.0 seconds RetCode: 0 Status: OK PackageFile: geNetClassifier_1.48.0.tar.gz PackageFileSize: 3.936 MiB