Package: geNetClassifier Version: 1.47.0 Command: /Library/Frameworks/R.framework/Resources/bin/R CMD INSTALL geNetClassifier StartedAt: 2025-02-19 15:39:57 -0500 (Wed, 19 Feb 2025) EndedAt: 2025-02-19 15:40:10 -0500 (Wed, 19 Feb 2025) EllapsedTime: 13.0 seconds RetCode: 0 Status: OK