Package: geNetClassifier Version: 1.47.0 Command: rm -rf geNetClassifier.buildbin-libdir && mkdir geNetClassifier.buildbin-libdir && /Users/biocbuild/BBS/utils/build-universal.sh geNetClassifier_1.47.0.tar.gz /Library/Frameworks/R.framework/Resources/bin/R geNetClassifier.buildbin-libdir StartedAt: 2025-02-19 22:23:12 -0500 (Wed, 19 Feb 2025) EndedAt: 2025-02-19 22:23:16 -0500 (Wed, 19 Feb 2025) EllapsedTime: 4.1 seconds RetCode: 0 Status: OK PackageFile: geNetClassifier_1.47.0.tgz PackageFileSize: 3.237 MiB