Package: geNetClassifier Version: 1.48.0 Command: /Library/Frameworks/R.framework/Resources/bin/R CMD INSTALL geNetClassifier StartedAt: 2025-09-29 18:33:15 -0400 (Mon, 29 Sep 2025) EndedAt: 2025-09-29 18:33:25 -0400 (Mon, 29 Sep 2025) EllapsedTime: 10.4 seconds RetCode: 0 Status: OK