Package: gdsfmt Version: 1.43.1 Command: /Library/Frameworks/R.framework/Resources/bin/R CMD check --install=check:gdsfmt.install-out.txt --library=/Library/Frameworks/R.framework/Resources/library --no-vignettes --timings gdsfmt_1.43.1.tar.gz StartedAt: 2025-02-20 20:34:07 -0500 (Thu, 20 Feb 2025) EndedAt: 2025-02-20 20:36:56 -0500 (Thu, 20 Feb 2025) EllapsedTime: 168.9 seconds RetCode: 0 Status: OK CheckDir: gdsfmt.Rcheck Warnings: 0