Package: gdsfmt Version: 1.43.1 Command: /Library/Frameworks/R.framework/Resources/bin/R CMD build --keep-empty-dirs --no-resave-data gdsfmt StartedAt: 2025-02-20 16:45:39 -0500 (Thu, 20 Feb 2025) EndedAt: 2025-02-20 16:49:23 -0500 (Thu, 20 Feb 2025) EllapsedTime: 223.3 seconds RetCode: 0 Status: OK PackageFile: gdsfmt_1.43.1.tar.gz PackageFileSize: 2.796 MiB