Package: gdsfmt Version: 1.43.1 Command: rm -rf gdsfmt.buildbin-libdir && mkdir gdsfmt.buildbin-libdir && /Users/biocbuild/BBS/utils/build-universal.sh gdsfmt_1.43.1.tar.gz /Library/Frameworks/R.framework/Resources/bin/R gdsfmt.buildbin-libdir StartedAt: 2025-02-21 00:31:56 -0500 (Fri, 21 Feb 2025) EndedAt: 2025-02-21 00:36:47 -0500 (Fri, 21 Feb 2025) EllapsedTime: 290.6 seconds RetCode: 0 Status: OK PackageFile: gdsfmt_1.43.1.tgz PackageFileSize: 1.887 MiB