Package: gcatest Version: 2.7.0 Command: /home/biocbuild/bbs-3.21-bioc/R/bin/R CMD INSTALL gcatest StartedAt: 2025-02-20 15:08:22 -0500 (Thu, 20 Feb 2025) EndedAt: 2025-02-20 15:08:25 -0500 (Thu, 20 Feb 2025) EllapsedTime: 3.7 seconds RetCode: 0 Status: OK