Package: gcatest Version: 2.7.0 Command: /Library/Frameworks/R.framework/Resources/bin/R CMD INSTALL gcatest StartedAt: 2025-02-20 15:05:19 -0500 (Thu, 20 Feb 2025) EndedAt: 2025-02-20 15:05:44 -0500 (Thu, 20 Feb 2025) EllapsedTime: 25.0 seconds RetCode: 0 Status: OK