Package: gcatest Version: 2.7.0 Command: /Library/Frameworks/R.framework/Resources/bin/R CMD INSTALL gcatest StartedAt: 2025-02-19 15:02:25 -0500 (Wed, 19 Feb 2025) EndedAt: 2025-02-19 15:02:32 -0500 (Wed, 19 Feb 2025) EllapsedTime: 6.8 seconds RetCode: 0 Status: OK