Package: gcapc Version: 1.31.0 Command: E:\biocbuild\bbs-3.21-bioc\R\bin\R.exe CMD INSTALL gcapc StartedAt: 2025-02-20 16:26:02 -0500 (Thu, 20 Feb 2025) EndedAt: 2025-02-20 16:26:39 -0500 (Thu, 20 Feb 2025) EllapsedTime: 37.5 seconds RetCode: 0 Status: OK