Package: gcapc Version: 1.31.0 Command: /home/biocbuild/bbs-3.21-bioc/R/bin/R CMD INSTALL gcapc StartedAt: 2025-02-20 15:36:59 -0500 (Thu, 20 Feb 2025) EndedAt: 2025-02-20 15:37:29 -0500 (Thu, 20 Feb 2025) EllapsedTime: 30.3 seconds RetCode: 0 Status: OK