Package: gcapc Version: 1.31.0 Command: /home/biocbuild/bbs-3.21-bioc/R/bin/R CMD check --install=check:gcapc.install-out.txt --library=/home/biocbuild/bbs-3.21-bioc/R/site-library --timings gcapc_1.31.0.tar.gz StartedAt: 2025-02-20 22:07:51 -0500 (Thu, 20 Feb 2025) EndedAt: 2025-02-20 22:17:11 -0500 (Thu, 20 Feb 2025) EllapsedTime: 559.9 seconds RetCode: 0 Status: OK CheckDir: gcapc.Rcheck Warnings: 0