Package: gcapc Version: 1.31.0 Command: /Library/Frameworks/R.framework/Resources/bin/R CMD INSTALL gcapc StartedAt: 2025-02-20 15:18:35 -0500 (Thu, 20 Feb 2025) EndedAt: 2025-02-20 15:19:17 -0500 (Thu, 20 Feb 2025) EllapsedTime: 42.2 seconds RetCode: 0 Status: OK