Package: gcapc Version: 1.31.0 Command: /Library/Frameworks/R.framework/Resources/bin/R CMD build --keep-empty-dirs --no-resave-data gcapc StartedAt: 2025-02-20 16:44:55 -0500 (Thu, 20 Feb 2025) EndedAt: 2025-02-20 16:48:40 -0500 (Thu, 20 Feb 2025) EllapsedTime: 225.6 seconds RetCode: 0 Status: OK PackageFile: gcapc_1.31.0.tar.gz PackageFileSize: 3.791 MiB