Package: gcapc Version: 1.31.0 Command: rm -rf gcapc.buildbin-libdir && mkdir gcapc.buildbin-libdir && /Users/biocbuild/BBS/utils/build-universal.sh gcapc_1.31.0.tar.gz /Library/Frameworks/R.framework/Resources/bin/R gcapc.buildbin-libdir StartedAt: 2025-02-21 00:31:44 -0500 (Fri, 21 Feb 2025) EndedAt: 2025-02-21 00:32:31 -0500 (Fri, 21 Feb 2025) EllapsedTime: 46.2 seconds RetCode: 0 Status: OK PackageFile: gcapc_1.31.0.tgz PackageFileSize: 3.868 MiB