Package: gcapc Version: 1.31.0 Command: /Library/Frameworks/R.framework/Resources/bin/R CMD INSTALL gcapc StartedAt: 2025-02-20 15:10:22 -0500 (Thu, 20 Feb 2025) EndedAt: 2025-02-20 15:10:36 -0500 (Thu, 20 Feb 2025) EllapsedTime: 13.4 seconds RetCode: 0 Status: OK