Package: gatom Version: 1.5.0 Command: E:\biocbuild\bbs-3.21-bioc\R\bin\R.exe CMD INSTALL gatom StartedAt: 2025-02-17 15:44:33 -0500 (Mon, 17 Feb 2025) EndedAt: 2025-02-17 15:45:05 -0500 (Mon, 17 Feb 2025) EllapsedTime: 32.4 seconds RetCode: 0 Status: OK