Package: gatom Version: 1.5.0 Command: rm -rf gatom.buildbin-libdir && mkdir gatom.buildbin-libdir && E:\biocbuild\bbs-3.21-bioc\R\bin\R.exe CMD INSTALL --build --library=gatom.buildbin-libdir gatom_1.5.0.tar.gz StartedAt: 2025-02-18 07:23:04 -0500 (Tue, 18 Feb 2025) EndedAt: 2025-02-18 07:23:38 -0500 (Tue, 18 Feb 2025) EllapsedTime: 34.2 seconds RetCode: 0 Status: OK PackageFile: gatom_1.5.0.zip PackageFileSize: 1.784 MiB