Package: gatom Version: 1.5.0 Command: /home/biocbuild/bbs-3.21-bioc/R/bin/R CMD INSTALL gatom StartedAt: 2025-02-17 15:24:56 -0500 (Mon, 17 Feb 2025) EndedAt: 2025-02-17 15:25:11 -0500 (Mon, 17 Feb 2025) EllapsedTime: 15.1 seconds RetCode: 0 Status: OK