Package: gatom Version: 1.5.0 Command: /Library/Frameworks/R.framework/Resources/bin/R CMD INSTALL gatom StartedAt: 2025-02-17 15:23:30 -0500 (Mon, 17 Feb 2025) EndedAt: 2025-02-17 15:23:54 -0500 (Mon, 17 Feb 2025) EllapsedTime: 23.5 seconds RetCode: 0 Status: OK