Package: gatom Version: 1.5.0 Command: /Library/Frameworks/R.framework/Resources/bin/R CMD check --install=check:gatom.install-out.txt --library=/Library/Frameworks/R.framework/Resources/library --no-vignettes --timings gatom_1.5.0.tar.gz StartedAt: 2025-02-17 20:28:36 -0500 (Mon, 17 Feb 2025) EndedAt: 2025-02-17 20:33:17 -0500 (Mon, 17 Feb 2025) EllapsedTime: 281.6 seconds RetCode: 1 Status: ERROR CheckDir: gatom.Rcheck Warnings: NA