Package: gatom Version: 1.5.0 Command: /Library/Frameworks/R.framework/Resources/bin/R CMD build --keep-empty-dirs --no-resave-data gatom StartedAt: 2025-02-17 16:21:59 -0500 (Mon, 17 Feb 2025) EndedAt: 2025-02-17 16:23:51 -0500 (Mon, 17 Feb 2025) EllapsedTime: 112.2 seconds RetCode: 0 Status: OK PackageFile: gatom_1.5.0.tar.gz PackageFileSize: 1.611 MiB