Package: garfield Version: 1.35.0 Command: /Library/Frameworks/R.framework/Resources/bin/R CMD check --install=check:garfield.install-out.txt --library=/Library/Frameworks/R.framework/Resources/library --no-vignettes --timings garfield_1.35.0.tar.gz StartedAt: 2025-02-19 19:22:46 -0500 (Wed, 19 Feb 2025) EndedAt: 2025-02-19 19:22:58 -0500 (Wed, 19 Feb 2025) EllapsedTime: 12.1 seconds RetCode: 0 Status: WARNINGS CheckDir: garfield.Rcheck Warnings: 1