Package: gage Version: 2.57.0 Command: /home/biocbuild/bbs-3.21-bioc/R/bin/R CMD INSTALL gage StartedAt: 2025-02-20 15:57:19 -0500 (Thu, 20 Feb 2025) EndedAt: 2025-02-20 15:57:33 -0500 (Thu, 20 Feb 2025) EllapsedTime: 14.4 seconds RetCode: 0 Status: OK