Package: gage Version: 2.57.0 Command: /home/biocbuild/bbs-3.21-bioc/R/bin/R CMD check --install=check:gage.install-out.txt --library=/home/biocbuild/bbs-3.21-bioc/R/site-library --timings gage_2.57.0.tar.gz StartedAt: 2025-02-19 22:21:46 -0500 (Wed, 19 Feb 2025) EndedAt: 2025-02-19 22:26:06 -0500 (Wed, 19 Feb 2025) EllapsedTime: 260.3 seconds RetCode: 0 Status: WARNINGS CheckDir: gage.Rcheck Warnings: 2