Package: gage Version: 2.57.0 Command: /Library/Frameworks/R.framework/Resources/bin/R CMD build --keep-empty-dirs --no-resave-data gage StartedAt: 2025-02-20 16:44:17 -0500 (Thu, 20 Feb 2025) EndedAt: 2025-02-20 16:47:09 -0500 (Thu, 20 Feb 2025) EllapsedTime: 171.7 seconds RetCode: 0 Status: OK PackageFile: gage_2.57.0.tar.gz PackageFileSize: 4.283 MiB