Package: gage Version: 2.57.0 Command: /Library/Frameworks/R.framework/Resources/bin/R CMD check --install=check:gage.install-out.txt --library=/Library/Frameworks/R.framework/Resources/library --no-vignettes --timings gage_2.57.0.tar.gz StartedAt: 2025-02-20 19:20:35 -0500 (Thu, 20 Feb 2025) EndedAt: 2025-02-20 19:21:26 -0500 (Thu, 20 Feb 2025) EllapsedTime: 50.6 seconds RetCode: 0 Status: WARNINGS CheckDir: gage.Rcheck Warnings: 1