Package: gaga Version: 2.53.0 Command: /home/biocbuild/bbs-3.21-bioc/R/bin/R CMD build --keep-empty-dirs --no-resave-data gaga StartedAt: 2025-02-18 17:13:39 -0500 (Tue, 18 Feb 2025) EndedAt: 2025-02-18 17:14:01 -0500 (Tue, 18 Feb 2025) EllapsedTime: 22.1 seconds RetCode: 0 Status: OK PackageFile: gaga_2.53.0.tar.gz PackageFileSize: 570.1 KiB