Package: gaga Version: 2.53.0 Command: /Library/Frameworks/R.framework/Resources/bin/R CMD INSTALL gaga StartedAt: 2025-02-18 15:07:27 -0500 (Tue, 18 Feb 2025) EndedAt: 2025-02-18 15:07:51 -0500 (Tue, 18 Feb 2025) EllapsedTime: 23.8 seconds RetCode: 0 Status: OK