Package: gaga Version: 2.53.0 Command: /home/biocbuild/R/R/bin/R CMD build --keep-empty-dirs --no-resave-data gaga StartedAt: 2025-01-28 22:59:48 -0000 (Tue, 28 Jan 2025) EndedAt: 2025-01-28 23:00:17 -0000 (Tue, 28 Jan 2025) EllapsedTime: 29.0 seconds RetCode: 0 Status: OK PackageFile: gaga_2.53.0.tar.gz PackageFileSize: 578.8 KiB