Package: gaga Version: 2.53.0 Command: /Library/Frameworks/R.framework/Resources/bin/R CMD build --keep-empty-dirs --no-resave-data gaga StartedAt: 2025-02-18 16:23:14 -0500 (Tue, 18 Feb 2025) EndedAt: 2025-02-18 16:23:25 -0500 (Tue, 18 Feb 2025) EllapsedTime: 11.1 seconds RetCode: 0 Status: OK PackageFile: gaga_2.53.0.tar.gz PackageFileSize: 570.3 KiB