Package: gINTomics Version: 1.3.0 Command: rm -rf gINTomics.buildbin-libdir && mkdir gINTomics.buildbin-libdir && E:\biocbuild\bbs-3.21-bioc\R\bin\R.exe CMD INSTALL --build --library=gINTomics.buildbin-libdir gINTomics_1.3.0.tar.gz StartedAt: 2025-02-20 07:54:08 -0500 (Thu, 20 Feb 2025) EndedAt: 2025-02-20 07:56:53 -0500 (Thu, 20 Feb 2025) EllapsedTime: 165.2 seconds RetCode: 0 Status: OK PackageFile: gINTomics_1.3.0.zip PackageFileSize: 3.811 MiB