Package: gINTomics Version: 1.3.0 Command: /Library/Frameworks/R.framework/Resources/bin/R CMD INSTALL gINTomics StartedAt: 2025-02-19 15:32:55 -0500 (Wed, 19 Feb 2025) EndedAt: 2025-02-19 15:34:48 -0500 (Wed, 19 Feb 2025) EllapsedTime: 113.6 seconds RetCode: 0 Status: OK