Package: gINTomics Version: 1.3.0 Command: /Library/Frameworks/R.framework/Resources/bin/R CMD INSTALL gINTomics StartedAt: 2025-02-19 15:20:54 -0500 (Wed, 19 Feb 2025) EndedAt: 2025-02-19 15:21:26 -0500 (Wed, 19 Feb 2025) EllapsedTime: 32.6 seconds RetCode: 0 Status: OK