Package: gDRutils Version: 1.5.11 Command: /home/biocbuild/bbs-3.21-bioc/R/bin/R CMD check --install=check:gDRutils.install-out.txt --library=/home/biocbuild/bbs-3.21-bioc/R/site-library --timings gDRutils_1.5.11.tar.gz StartedAt: 2025-02-17 22:17:46 -0500 (Mon, 17 Feb 2025) EndedAt: 2025-02-17 22:21:24 -0500 (Mon, 17 Feb 2025) EllapsedTime: 218.4 seconds RetCode: 0 Status: OK CheckDir: gDRutils.Rcheck Warnings: 0