Package: gDRutils Version: 1.5.11 Command: /Library/Frameworks/R.framework/Resources/bin/R CMD check --install=check:gDRutils.install-out.txt --library=/Library/Frameworks/R.framework/Resources/library --no-vignettes --timings gDRutils_1.5.11.tar.gz StartedAt: 2025-02-17 20:30:05 -0500 (Mon, 17 Feb 2025) EndedAt: 2025-02-17 20:34:22 -0500 (Mon, 17 Feb 2025) EllapsedTime: 256.4 seconds RetCode: 0 Status: OK CheckDir: gDRutils.Rcheck Warnings: 0