Package: gDRutils Version: 1.5.11 Command: /Library/Frameworks/R.framework/Resources/bin/R CMD build --keep-empty-dirs --no-resave-data gDRutils StartedAt: 2025-02-17 16:44:41 -0500 (Mon, 17 Feb 2025) EndedAt: 2025-02-17 16:45:21 -0500 (Mon, 17 Feb 2025) EllapsedTime: 39.9 seconds RetCode: 0 Status: OK PackageFile: gDRutils_1.5.11.tar.gz PackageFileSize: 328.7 KiB