Package: gDRutils Version: 1.5.11 Command: rm -rf gDRutils.buildbin-libdir && mkdir gDRutils.buildbin-libdir && /Users/biocbuild/BBS/utils/build-universal.sh gDRutils_1.5.11.tar.gz /Library/Frameworks/R.framework/Resources/bin/R gDRutils.buildbin-libdir StartedAt: 2025-02-17 22:18:15 -0500 (Mon, 17 Feb 2025) EndedAt: 2025-02-17 22:18:25 -0500 (Mon, 17 Feb 2025) EllapsedTime: 10.2 seconds RetCode: 0 Status: OK PackageFile: gDRutils_1.5.11.tgz PackageFileSize: 641 KiB