Package: gDRstyle Version: 1.5.3 Command: E:\biocbuild\bbs-3.21-bioc\R\bin\R.exe CMD INSTALL gDRstyle StartedAt: 2025-02-20 15:41:43 -0500 (Thu, 20 Feb 2025) EndedAt: 2025-02-20 15:41:57 -0500 (Thu, 20 Feb 2025) EllapsedTime: 14.1 seconds RetCode: 0 Status: OK